Package: anota Version: 1.56.0 Command: rm -rf anota.buildbin-libdir && mkdir anota.buildbin-libdir && /Users/biocbuild/BBS/utils/build-universal.sh anota_1.56.0.tar.gz /Library/Frameworks/R.framework/Resources/bin/R anota.buildbin-libdir StartedAt: 2025-04-22 00:33:21 -0400 (Tue, 22 Apr 2025) EndedAt: 2025-04-22 00:33:37 -0400 (Tue, 22 Apr 2025) EllapsedTime: 15.4 seconds RetCode: 0 Status: OK PackageFile: anota_1.56.0.tgz PackageFileSize: 711.1 KiB