Package: anota Version: 1.56.0 Command: /home/biocbuild/R/R/bin/R CMD INSTALL anota StartedAt: 2025-10-02 20:23:58 -0000 (Thu, 02 Oct 2025) EndedAt: 2025-10-02 20:24:11 -0000 (Thu, 02 Oct 2025) EllapsedTime: 12.4 seconds RetCode: 0 Status: OK