Package: anota Version: 1.56.0 Command: /home/biocbuild/R/R/bin/R CMD check --install=check:anota.install-out.txt --library=/home/biocbuild/R/R/site-library --no-vignettes --timings anota_1.56.0.tar.gz StartedAt: 2025-10-07 06:24:09 -0000 (Tue, 07 Oct 2025) EndedAt: 2025-10-07 06:25:35 -0000 (Tue, 07 Oct 2025) EllapsedTime: 86.1 seconds RetCode: 0 Status: OK CheckDir: anota.Rcheck Warnings: 0