Package: anota Version: 1.56.0 Command: /Library/Frameworks/R.framework/Resources/bin/R CMD check --install=check:anota.install-out.txt --library=/Library/Frameworks/R.framework/Resources/library --no-vignettes --timings anota_1.56.0.tar.gz StartedAt: 2025-10-03 12:39:07 -0400 (Fri, 03 Oct 2025) EndedAt: 2025-10-03 12:40:27 -0400 (Fri, 03 Oct 2025) EllapsedTime: 79.1 seconds RetCode: 0 Status: OK CheckDir: anota.Rcheck Warnings: 0