Package: annotatr Version: 1.36.0 Command: /home/biocbuild/bbs-3.22-bioc/R/bin/R CMD check --install=check:annotatr.install-out.txt --library=/home/biocbuild/bbs-3.22-bioc/R/site-library --timings annotatr_1.36.0.tar.gz StartedAt: 2025-11-06 21:03:03 -0500 (Thu, 06 Nov 2025) EndedAt: 2025-11-06 21:11:02 -0500 (Thu, 06 Nov 2025) EllapsedTime: 478.6 seconds RetCode: 0 Status: OK CheckDir: annotatr.Rcheck Warnings: 0