Package: annmap Version: 1.50.0 Command: /home/biocbuild/bbs-3.21-bioc/R/bin/R CMD check --install=check:annmap.install-out.txt --library=/home/biocbuild/bbs-3.21-bioc/R/site-library --timings annmap_1.50.0.tar.gz StartedAt: 2025-10-15 20:46:38 -0400 (Wed, 15 Oct 2025) EndedAt: 2025-10-15 20:49:21 -0400 (Wed, 15 Oct 2025) EllapsedTime: 163.3 seconds RetCode: 0 Status: WARNINGS CheckDir: annmap.Rcheck Warnings: 1