Package: annmap Version: 1.50.0 Command: /home/biocbuild/bbs-3.21-bioc/R/bin/R CMD build --keep-empty-dirs --no-resave-data annmap StartedAt: 2025-10-15 16:10:17 -0400 (Wed, 15 Oct 2025) EndedAt: 2025-10-15 16:10:51 -0400 (Wed, 15 Oct 2025) EllapsedTime: 34.0 seconds RetCode: 0 Status: OK PackageFile: annmap_1.50.0.tar.gz PackageFileSize: 1.005 MiB