Package: anndataR Version: 1.0.0 Command: /home/biocbuild/bbs-3.22-bioc/R/bin/R CMD INSTALL anndataR StartedAt: 2025-11-06 15:10:44 -0500 (Thu, 06 Nov 2025) EndedAt: 2025-11-06 15:10:57 -0500 (Thu, 06 Nov 2025) EllapsedTime: 12.5 seconds RetCode: 0 Status: OK