Package: anndataR Version: 1.0.0 Command: /home/biocbuild/bbs-3.22-bioc/R/bin/R CMD check --install=check:anndataR.install-out.txt --library=/home/biocbuild/bbs-3.22-bioc/R/site-library --timings anndataR_1.0.0.tar.gz StartedAt: 2025-11-09 21:11:18 -0500 (Sun, 09 Nov 2025) EndedAt: 2025-11-09 21:24:52 -0500 (Sun, 09 Nov 2025) EllapsedTime: 814.4 seconds RetCode: 0 Status: OK CheckDir: anndataR.Rcheck Warnings: 0