Package: anndataR Version: 1.0.0 Command: /home/biocbuild/bbs-3.22-bioc/R/bin/R CMD build --keep-empty-dirs --no-resave-data --md5 anndataR StartedAt: 2025-11-06 16:13:12 -0500 (Thu, 06 Nov 2025) EndedAt: 2025-11-06 16:15:52 -0500 (Thu, 06 Nov 2025) EllapsedTime: 160.2 seconds RetCode: 0 Status: OK PackageFile: anndataR_1.0.0.tar.gz PackageFileSize: 2.1 MiB