Package: anndataR Version: 1.0.0 Command: /Library/Frameworks/R.framework/Resources/bin/R CMD INSTALL anndataR StartedAt: 2025-11-03 15:17:54 -0500 (Mon, 03 Nov 2025) EndedAt: 2025-11-03 15:18:26 -0500 (Mon, 03 Nov 2025) EllapsedTime: 31.2 seconds RetCode: 0 Status: OK