Package: anndataR Version: 1.0.0 Command: /Library/Frameworks/R.framework/Resources/bin/R CMD build --keep-empty-dirs --no-resave-data anndataR StartedAt: 2025-11-03 16:03:25 -0500 (Mon, 03 Nov 2025) EndedAt: 2025-11-03 16:07:14 -0500 (Mon, 03 Nov 2025) EllapsedTime: 229.5 seconds RetCode: 0 Status: OK PackageFile: anndataR_1.0.0.tar.gz PackageFileSize: 2.096 MiB