Package: anndataR Version: 1.0.0 Command: /Library/Frameworks/R.framework/Resources/bin/R CMD check --install=check:anndataR.install-out.txt --library=/Library/Frameworks/R.framework/Resources/library --no-vignettes --timings anndataR_1.0.0.tar.gz StartedAt: 2025-11-06 18:26:40 -0500 (Thu, 06 Nov 2025) EndedAt: 2025-11-06 18:33:53 -0500 (Thu, 06 Nov 2025) EllapsedTime: 432.5 seconds RetCode: 0 Status: OK CheckDir: anndataR.Rcheck Warnings: 0