Package: anndataR Version: 1.0.0 Command: rm -rf anndataR.buildbin-libdir && mkdir anndataR.buildbin-libdir && /Users/biocbuild/BBS/utils/build-universal.sh anndataR_1.0.0.tar.gz /Library/Frameworks/R.framework/Resources/bin/R anndataR.buildbin-libdir StartedAt: 2025-11-06 22:55:49 -0500 (Thu, 06 Nov 2025) EndedAt: 2025-11-06 22:55:54 -0500 (Thu, 06 Nov 2025) EllapsedTime: 5.1 seconds RetCode: 0 Status: OK PackageFile: anndataR_1.0.0.tgz PackageFileSize: 2.43 MiB