Package: anndataR Version: 1.0.0 Maintainer: Robrecht Cannoodt MaintainerEmail: robrecht at data-intuitive.com git_url: https://git.bioconductor.org/packages/anndataR git_branch: RELEASE_3_22 git_last_commit: 243ac84 git_last_commit_date: 2025-10-29 11:39:06 -0500 (Wed, 29 Oct 2025)