Package: animalcules Version: 1.25.0 Command: F:\biocbuild\bbs-3.22-bioc\R\bin\R.exe CMD INSTALL animalcules StartedAt: 2025-08-14 16:07:59 -0400 (Thu, 14 Aug 2025) EndedAt: 2025-08-14 16:09:07 -0400 (Thu, 14 Aug 2025) EllapsedTime: 68.1 seconds RetCode: 0 Status: OK