Package: animalcules Version: 1.26.0 Command: /Library/Frameworks/R.framework/Resources/bin/R CMD INSTALL animalcules StartedAt: 2025-11-03 15:28:00 -0500 (Mon, 03 Nov 2025) EndedAt: 2025-11-03 15:28:49 -0500 (Mon, 03 Nov 2025) EllapsedTime: 48.6 seconds RetCode: 0 Status: OK