Package: animalcules Version: 1.26.0 Command: /Library/Frameworks/R.framework/Resources/bin/R CMD check --install=check:animalcules.install-out.txt --library=/Library/Frameworks/R.framework/Resources/library --no-vignettes --timings animalcules_1.26.0.tar.gz StartedAt: 2025-11-03 19:28:01 -0500 (Mon, 03 Nov 2025) EndedAt: 2025-11-03 19:33:07 -0500 (Mon, 03 Nov 2025) EllapsedTime: 305.1 seconds RetCode: 0 Status: OK CheckDir: animalcules.Rcheck Warnings: 0