Package: animalcules Version: 1.26.0 Command: /Library/Frameworks/R.framework/Resources/bin/R CMD build --keep-empty-dirs --no-resave-data animalcules StartedAt: 2025-11-06 15:37:29 -0500 (Thu, 06 Nov 2025) EndedAt: 2025-11-06 15:37:55 -0500 (Thu, 06 Nov 2025) EllapsedTime: 26.3 seconds RetCode: 0 Status: OK PackageFile: animalcules_1.26.0.tar.gz PackageFileSize: 3.325 MiB