Package: anglemania Version: 1.0.0 Command: /home/biocbuild/R/R/bin/R CMD INSTALL anglemania StartedAt: 2025-11-13 21:29:16 -0000 (Thu, 13 Nov 2025) EndedAt: 2025-11-13 21:30:00 -0000 (Thu, 13 Nov 2025) EllapsedTime: 44.0 seconds RetCode: 0 Status: OK