Package: anglemania Version: 1.0.0 Command: /home/biocbuild/R/R/bin/R CMD check --install=check:anglemania.install-out.txt --library=/home/biocbuild/R/R/site-library --no-vignettes --timings anglemania_1.0.0.tar.gz StartedAt: 2025-11-14 06:41:12 -0000 (Fri, 14 Nov 2025) EndedAt: 2025-11-14 06:45:48 -0000 (Fri, 14 Nov 2025) EllapsedTime: 275.4 seconds RetCode: 0 Status: OK CheckDir: anglemania.Rcheck Warnings: 0