Package: anglemania Version: 1.0.0 Command: /home/biocbuild/bbs-3.22-bioc/R/bin/R CMD check --install=check:anglemania.install-out.txt --library=/home/biocbuild/bbs-3.22-bioc/R/site-library --timings anglemania_1.0.0.tar.gz StartedAt: 2025-11-10 21:10:32 -0500 (Mon, 10 Nov 2025) EndedAt: 2025-11-10 21:25:42 -0500 (Mon, 10 Nov 2025) EllapsedTime: 910.6 seconds RetCode: 0 Status: OK CheckDir: anglemania.Rcheck Warnings: 0