Package: anglemania Version: 1.0.0 Command: /Library/Frameworks/R.framework/Resources/bin/R CMD INSTALL anglemania StartedAt: 2025-11-03 15:27:49 -0500 (Mon, 03 Nov 2025) EndedAt: 2025-11-03 15:28:31 -0500 (Mon, 03 Nov 2025) EllapsedTime: 42.2 seconds RetCode: 0 Status: OK