Package: anglemania Version: 1.0.0 Command: /Library/Frameworks/R.framework/Resources/bin/R CMD check --install=check:anglemania.install-out.txt --library=/Library/Frameworks/R.framework/Resources/library --no-vignettes --timings anglemania_1.0.0.tar.gz StartedAt: 2025-11-03 19:28:01 -0500 (Mon, 03 Nov 2025) EndedAt: 2025-11-03 19:31:45 -0500 (Mon, 03 Nov 2025) EllapsedTime: 223.8 seconds RetCode: 0 Status: OK CheckDir: anglemania.Rcheck Warnings: 0