Package: anglemania Version: 1.0.0 Command: /Library/Frameworks/R.framework/Resources/bin/R CMD build --keep-empty-dirs --no-resave-data anglemania StartedAt: 2025-11-03 16:03:16 -0500 (Mon, 03 Nov 2025) EndedAt: 2025-11-03 16:15:12 -0500 (Mon, 03 Nov 2025) EllapsedTime: 715.8 seconds RetCode: 0 Status: OK PackageFile: anglemania_1.0.0.tar.gz PackageFileSize: 7.452 MiB