Package: anglemania Version: 1.0.0 Command: rm -rf anglemania.buildbin-libdir && mkdir anglemania.buildbin-libdir && /Users/biocbuild/BBS/utils/build-universal.sh anglemania_1.0.0.tar.gz /Library/Frameworks/R.framework/Resources/bin/R anglemania.buildbin-libdir StartedAt: 2025-11-04 01:27:31 -0500 (Tue, 04 Nov 2025) EndedAt: 2025-11-04 01:28:20 -0500 (Tue, 04 Nov 2025) EllapsedTime: 48.8 seconds RetCode: 0 Status: OK PackageFile: anglemania_1.0.0.tgz PackageFileSize: 7.556 MiB