Package: anansi Version: 1.0.0 Command: /Library/Frameworks/R.framework/Resources/bin/R CMD INSTALL anansi StartedAt: 2025-11-03 15:30:55 -0500 (Mon, 03 Nov 2025) EndedAt: 2025-11-03 15:31:44 -0500 (Mon, 03 Nov 2025) EllapsedTime: 49.6 seconds RetCode: 0 Status: OK