Package: anansi Version: 1.0.0 Command: /Library/Frameworks/R.framework/Resources/bin/R CMD INSTALL anansi StartedAt: 2025-11-06 15:15:27 -0500 (Thu, 06 Nov 2025) EndedAt: 2025-11-06 15:15:41 -0500 (Thu, 06 Nov 2025) EllapsedTime: 14.1 seconds RetCode: 0 Status: OK