Package: anansi Version: 1.0.0 Command: /Library/Frameworks/R.framework/Resources/bin/R CMD build --keep-empty-dirs --no-resave-data anansi StartedAt: 2025-11-06 15:37:14 -0500 (Thu, 06 Nov 2025) EndedAt: 2025-11-06 15:37:44 -0500 (Thu, 06 Nov 2025) EllapsedTime: 29.4 seconds RetCode: 0 Status: OK PackageFile: anansi_1.0.0.tar.gz PackageFileSize: 4.351 MiB