Package: amplican Version: 1.31.2 Command: F:\biocbuild\bbs-3.22-bioc\R\bin\R.exe CMD INSTALL amplican StartedAt: 2025-08-14 16:48:59 -0400 (Thu, 14 Aug 2025) EndedAt: 2025-08-14 16:50:15 -0400 (Thu, 14 Aug 2025) EllapsedTime: 75.5 seconds RetCode: 0 Status: OK