Package: amplican Version: 1.31.2 Command: F:\biocbuild\bbs-3.22-bioc\R\bin\R.exe CMD check --no-multiarch --install=check:amplican.install-out.txt --library=F:\biocbuild\bbs-3.22-bioc\R\library --no-vignettes --timings amplican_1.31.2.tar.gz StartedAt: 2025-08-15 00:27:25 -0400 (Fri, 15 Aug 2025) EndedAt: 2025-08-15 00:31:28 -0400 (Fri, 15 Aug 2025) EllapsedTime: 243.0 seconds RetCode: 0 Status: OK CheckDir: amplican.Rcheck Warnings: 0