Package: amplican Version: 1.31.2 Command: chmod a+r amplican -R && F:\biocbuild\bbs-3.22-bioc\R\bin\R.exe CMD build --keep-empty-dirs --no-resave-data amplican StartedAt: 2025-08-14 18:24:49 -0400 (Thu, 14 Aug 2025) EndedAt: 2025-08-14 18:27:46 -0400 (Thu, 14 Aug 2025) EllapsedTime: 176.8 seconds RetCode: 0 Status: OK PackageFile: amplican_1.31.2.tar.gz PackageFileSize: 6.573 MiB