Package: amplican Version: 1.30.0 Command: rm -rf amplican.buildbin-libdir && mkdir amplican.buildbin-libdir && E:\biocbuild\bbs-3.21-bioc\R\bin\R.exe CMD INSTALL --build --library=amplican.buildbin-libdir amplican_1.30.0.tar.gz StartedAt: 2025-08-15 08:44:58 -0400 (Fri, 15 Aug 2025) EndedAt: 2025-08-15 08:46:18 -0400 (Fri, 15 Aug 2025) EllapsedTime: 79.8 seconds RetCode: 0 Status: OK PackageFile: amplican_1.30.0.zip PackageFileSize: 5.595 MiB