Package: altcdfenvs Version: 2.72.0 Command: /home/biocbuild/R/R/bin/R CMD check --install=check:altcdfenvs.install-out.txt --library=/home/biocbuild/R/R/site-library --no-vignettes --timings altcdfenvs_2.72.0.tar.gz StartedAt: 2025-11-14 06:40:24 -0000 (Fri, 14 Nov 2025) EndedAt: 2025-11-14 06:42:40 -0000 (Fri, 14 Nov 2025) EllapsedTime: 136.2 seconds RetCode: 0 Status: OK CheckDir: altcdfenvs.Rcheck Warnings: 0