Package: altcdfenvs Version: 2.72.0 Command: /home/biocbuild/R/R/bin/R CMD build --keep-empty-dirs --no-resave-data altcdfenvs StartedAt: 2025-11-13 23:22:23 -0000 (Thu, 13 Nov 2025) EndedAt: 2025-11-13 23:23:24 -0000 (Thu, 13 Nov 2025) EllapsedTime: 61.0 seconds RetCode: 0 Status: OK PackageFile: altcdfenvs_2.72.0.tar.gz PackageFileSize: 649.5 KiB