Package: altcdfenvs Version: 2.72.0 Command: /home/biocbuild/bbs-3.22-bioc/R/bin/R CMD build --keep-empty-dirs --no-resave-data --md5 altcdfenvs StartedAt: 2025-11-14 16:13:45 -0500 (Fri, 14 Nov 2025) EndedAt: 2025-11-14 16:14:32 -0500 (Fri, 14 Nov 2025) EllapsedTime: 47.1 seconds RetCode: 0 Status: OK PackageFile: altcdfenvs_2.72.0.tar.gz PackageFileSize: 670.8 KiB