Package: altcdfenvs Version: 2.72.0 Command: rm -rf altcdfenvs.buildbin-libdir && mkdir altcdfenvs.buildbin-libdir && /Users/biocbuild/BBS/utils/build-universal.sh altcdfenvs_2.72.0.tar.gz /Library/Frameworks/R.framework/Resources/bin/R altcdfenvs.buildbin-libdir StartedAt: 2025-11-10 23:11:02 -0500 (Mon, 10 Nov 2025) EndedAt: 2025-11-10 23:11:08 -0500 (Mon, 10 Nov 2025) EllapsedTime: 6.2 seconds RetCode: 0 Status: OK PackageFile: altcdfenvs_2.72.0.tgz PackageFileSize: 1.105 MiB