Package: alevinQC Version: 1.24.0 Command: /home/biocbuild/bbs-3.21-bioc/R/bin/R CMD check --install=check:alevinQC.install-out.txt --library=/home/biocbuild/bbs-3.21-bioc/R/site-library --timings alevinQC_1.24.0.tar.gz StartedAt: 2025-10-15 20:44:03 -0400 (Wed, 15 Oct 2025) EndedAt: 2025-10-15 20:47:05 -0400 (Wed, 15 Oct 2025) EllapsedTime: 182.3 seconds RetCode: 0 Status: OK CheckDir: alevinQC.Rcheck Warnings: 0