Package: alevinQC Version: 1.24.0 Command: /home/biocbuild/R/R/bin/R CMD INSTALL alevinQC StartedAt: 2025-10-09 20:22:01 -0000 (Thu, 09 Oct 2025) EndedAt: 2025-10-09 20:22:26 -0000 (Thu, 09 Oct 2025) EllapsedTime: 24.7 seconds RetCode: 0 Status: OK