Package: alabaster Version: 1.9.0 Command: rm -rf alabaster.buildbin-libdir && mkdir alabaster.buildbin-libdir && F:\biocbuild\bbs-3.22-bioc\R\bin\R.exe CMD INSTALL --build --library=alabaster.buildbin-libdir alabaster_1.9.0.tar.gz StartedAt: 2025-08-15 09:42:00 -0400 (Fri, 15 Aug 2025) EndedAt: 2025-08-15 09:42:55 -0400 (Fri, 15 Aug 2025) EllapsedTime: 54.8 seconds RetCode: 0 Status: OK PackageFile: alabaster_1.9.0.zip PackageFileSize: 224.8 KiB