Package: alabaster Version: 1.8.0 Command: rm -rf alabaster.buildbin-libdir && mkdir alabaster.buildbin-libdir && E:\biocbuild\bbs-3.21-bioc\R\bin\R.exe CMD INSTALL --build --library=alabaster.buildbin-libdir alabaster_1.8.0.tar.gz StartedAt: 2025-08-15 08:43:56 -0400 (Fri, 15 Aug 2025) EndedAt: 2025-08-15 08:44:55 -0400 (Fri, 15 Aug 2025) EllapsedTime: 59.0 seconds RetCode: 0 Status: OK PackageFile: alabaster_1.8.0.zip PackageFileSize: 224.8 KiB