Package: alabaster Version: 1.8.0 Command: /home/biocbuild/bbs-3.21-bioc/R/bin/R CMD INSTALL alabaster StartedAt: 2025-10-15 15:57:57 -0400 (Wed, 15 Oct 2025) EndedAt: 2025-10-15 15:58:43 -0400 (Wed, 15 Oct 2025) EllapsedTime: 46.1 seconds RetCode: 0 Status: OK