Package: alabaster Version: 1.8.0 Command: /home/biocbuild/bbs-3.21-bioc/R/bin/R CMD build --keep-empty-dirs --no-resave-data alabaster StartedAt: 2025-10-15 16:08:19 -0400 (Wed, 15 Oct 2025) EndedAt: 2025-10-15 16:09:05 -0400 (Wed, 15 Oct 2025) EllapsedTime: 46.0 seconds RetCode: 0 Status: OK PackageFile: alabaster_1.8.0.tar.gz PackageFileSize: 215.7 KiB