Package: alabaster Version: 1.8.0 Command: /home/biocbuild/R/R/bin/R CMD INSTALL alabaster StartedAt: 2025-10-13 21:14:20 -0000 (Mon, 13 Oct 2025) EndedAt: 2025-10-13 21:15:26 -0000 (Mon, 13 Oct 2025) EllapsedTime: 66.5 seconds RetCode: 0 Status: OK