Package: alabaster Version: 1.8.0 Command: /home/biocbuild/R/R/bin/R CMD check --install=check:alabaster.install-out.txt --library=/home/biocbuild/R/R/site-library --no-vignettes --timings alabaster_1.8.0.tar.gz StartedAt: 2025-10-14 06:05:50 -0000 (Tue, 14 Oct 2025) EndedAt: 2025-10-14 06:11:46 -0000 (Tue, 14 Oct 2025) EllapsedTime: 356.6 seconds RetCode: 0 Status: OK CheckDir: alabaster.Rcheck Warnings: 0