Package: alabaster Version: 1.8.0 Command: /home/biocbuild/R/R/bin/R CMD build --keep-empty-dirs --no-resave-data alabaster StartedAt: 2025-10-13 22:30:35 -0000 (Mon, 13 Oct 2025) EndedAt: 2025-10-13 22:31:42 -0000 (Mon, 13 Oct 2025) EllapsedTime: 67.0 seconds RetCode: 0 Status: OK PackageFile: alabaster_1.8.0.tar.gz PackageFileSize: 239 KiB