Package: alabaster Version: 1.8.0 Command: /Library/Frameworks/R.framework/Resources/bin/R CMD check --install=check:alabaster.install-out.txt --library=/Library/Frameworks/R.framework/Resources/library --no-vignettes --timings alabaster_1.8.0.tar.gz StartedAt: 2025-04-21 18:05:07 -0400 (Mon, 21 Apr 2025) EndedAt: 2025-04-21 18:06:39 -0400 (Mon, 21 Apr 2025) EllapsedTime: 92.2 seconds RetCode: 0 Status: OK CheckDir: alabaster.Rcheck Warnings: 0