Package: alabaster Version: 1.8.0 Command: rm -rf alabaster.buildbin-libdir && mkdir alabaster.buildbin-libdir && /Users/biocbuild/BBS/utils/build-universal.sh alabaster_1.8.0.tar.gz /Library/Frameworks/R.framework/Resources/bin/R alabaster.buildbin-libdir StartedAt: 2025-10-15 17:20:47 -0400 (Wed, 15 Oct 2025) EndedAt: 2025-10-15 17:21:49 -0400 (Wed, 15 Oct 2025) EllapsedTime: 61.7 seconds RetCode: 0 Status: OK PackageFile: alabaster_1.8.0.tgz PackageFileSize: 221.4 KiB