Package: alabaster.sce Version: 1.8.0 Command: rm -rf alabaster.sce.buildbin-libdir && mkdir alabaster.sce.buildbin-libdir && /Users/biocbuild/BBS/utils/build-universal.sh alabaster.sce_1.8.0.tar.gz /Library/Frameworks/R.framework/Resources/bin/R alabaster.sce.buildbin-libdir StartedAt: 2025-10-15 17:21:49 -0400 (Wed, 15 Oct 2025) EndedAt: 2025-10-15 17:22:26 -0400 (Wed, 15 Oct 2025) EllapsedTime: 37.5 seconds RetCode: 0 Status: OK PackageFile: alabaster.sce_1.8.0.tgz PackageFileSize: 335 KiB