Package: alabaster.ranges Version: 1.8.0 Command: /home/biocbuild/bbs-3.21-bioc/R/bin/R CMD INSTALL alabaster.ranges StartedAt: 2025-10-15 15:14:46 -0400 (Wed, 15 Oct 2025) EndedAt: 2025-10-15 15:14:57 -0400 (Wed, 15 Oct 2025) EllapsedTime: 10.9 seconds RetCode: 0 Status: OK